{ "currentVersion": 11.5, "serviceDescription": "
This image service is part of a collection of maps for PGA, PGV and spectral accelerations at 0.2 s (SA02), 1.0 s (SA10), and 2.0 s (SA20) to illustrate seismic hazards in California. For each ground motion parameter, maps at two different hazard levels were presented: one with a 2% probability of being exceeded in 50 years (equivalent to 2,475-year recurrence interval) and the other with 10% probability of being exceeded in 50 years (equivalent to 475-year recurrence interval). The ArcGIS Online interface allows users to select any two ground motion hazard maps to compare side by side. Ground motion parameters were calculated using the 2023 update of the U.S. Geological Survey National Seismic Hazard Model. See the \u201cScientific Background\u201d on MS48 webpage for detailed information.<\/span><\/div>
<\/div>
Due to software limitations, symbology cannot be added to this service. To match the symbology used in the MS48 Ground Motion application<\/a>, use the following configuration:<\/font><\/i><\/div>
  • Esri Color Ramp: Inferno<\/i><\/font><\/li>
  • Minimum: 6.8 cm/s<\/i><\/font><\/li>
  • Maximum: 269 cm/s<\/i><\/font><\/li>
  • Gamma: 1<\/i><\/font><\/li><\/ul><\/div>", "serviceItemId": "f1a7b35447e64783890e14f72d016aa2", "name": "CGS/MS48_GroundMotion_PGV_10pc50", "description": "", "extent": { "xmin": -1.384945289159562E7, "ymin": 3833338.637614228, "xmax": -1.270475289159562E7, "ymax": 5162538.637614228, "spatialReference": { "wkid": 102100, "latestWkid": 3857 } }, "initialExtent": { "xmin": -1.384945289159562E7, "ymin": 3833338.637614228, "xmax": -1.270475289159562E7, "ymax": 5162538.637614228, "spatialReference": { "wkid": 102100, "latestWkid": 3857 } }, "fullExtent": { "xmin": -1.384945289159562E7, "ymin": 3833338.637614228, "xmax": -1.270475289159562E7, "ymax": 5162538.637614228, "spatialReference": { "wkid": 102100, "latestWkid": 3857 } }, "sortableFields": "", "bandCount": 1, "pixelType": "F32", "minValues": [ 6.766749382019043 ], "maxValues": [ 144.93829345703125 ], "meanValues": [ 31.509454167170095 ], "stdvValues": [ 21.023274049539044 ], "serviceProperties": "Center<\/MosaicMethod>First<\/MosaicOperator>true<\/SortAscending><\/LockImageID><\/TileOrderField>0<\/TileOrderBase>0.000000<\/AvgImageSpacingX>0.000000<\/AvgImageSpacingY>0.0<\/ViewPointX>0.0<\/ViewPointY>0.0<\/ViewPointDefShiftX>0.0<\/ViewPointDefShiftY>None<\/CompressionMethod>75<\/CompressionQuality>0.010000<\/CompressionTolerance>Bilinear<\/SamplingMethod><\/ImageServiceProperties><\/ImageServer>", "allowedFields": "", "hasMultidimensions": false, "pixelSizeX": 100, "pixelSizeY": 100, "meanPixelSize": 100, "datasetFormat": "SDR", "uncompressedSize": 608614096, "blockWidth": 128, "blockHeight": 128, "compressionType": "LZ77", "bandNames": [ "Band_1" ], "allowCopy": true, "allowAnalysis": true, "itemAccess": false, "inspectionCapabilities": "", "minPixelSize": 0, "maxPixelSize": 0, "copyrightText": "Rui Chen, 2025, Map Sheet 48: Earthquake Shaking Potential for California, California Geological Survey, California Department of Conservation.", "serviceDataType": "esriImageServiceDataTypeGeneric", "serviceSourceType": "esriImageServiceSourceTypeDataset", "objectIdField": "", "fields": [], "capabilities": "Image,Metadata,Mensuration", "defaultMosaicMethod": "Center", "allowedMosaicMethods": "", "sortField": "", "sortValue": null, "sortAscending": true, "mosaicOperator": "First", "defaultCompressionQuality": 75, "defaultResamplingMethod": "Bilinear", "maxImageHeight": 4100, "maxImageWidth": 15000, "allowRasterFunction": true, "rasterFunctionInfos": [ { "name": "None", "description": "", "help": "" } ], "rasterTypeInfos": [ { "name": "Raster Dataset", "description": "Supports all ArcGIS Raster Datasets", "help": "" } ], "mensurationCapabilities": "Basic", "hasHistograms": true, "hasColormap": false, "hasRasterAttributeTable": false, "minScale": 0, "maxScale": 0, "exportTilesAllowed": false, "supportsStatistics": false, "supportsAdvancedQueries": false, "editFieldsInfo": null, "ownershipBasedAccessControlForRasters": null, "allowComputeTiePoints": false, "useStandardizedQueries": true, "advancedQueryCapabilities": { "useStandardizedQueries": true, "supportsStatistics": false, "supportsOrderBy": false, "supportsDistinct": false, "supportsPagination": false }, "spatialReference": { "wkid": 102100, "latestWkid": 3857 } }