<?xml version="1.0" encoding="UTF-8" standalone="no"?>
<metadata xml:lang="en">
<Esri>
<CreaDate>20260401</CreaDate>
<CreaTime>10483000</CreaTime>
<ArcGISFormat>1.0</ArcGISFormat>
<SyncOnce>FALSE</SyncOnce>
<DataProperties>
<itemProps>
<itemName Sync="FALSE">CGSUSER_MS48_MMI_PGA_10pc50_Buffer</itemName>
<imsContentType Sync="TRUE">002</imsContentType>
<nativeExtBox>
<westBL Sync="TRUE">-13849552.891616</westBL>
<eastBL Sync="TRUE">-12704752.658603</eastBL>
<southBL Sync="TRUE">3833338.434028</southBL>
<northBL Sync="TRUE">5162638.637630</northBL>
<exTypeCode Sync="TRUE">1</exTypeCode>
</nativeExtBox>
</itemProps>
<coordRef>
<type Sync="TRUE">Projected</type>
<geogcsn Sync="TRUE">GCS_WGS_1984</geogcsn>
<csUnits Sync="TRUE">Linear Unit: Meter (1.000000)</csUnits>
<projcsn Sync="TRUE">WGS_1984_Web_Mercator_Auxiliary_Sphere</projcsn>
<peXml Sync="TRUE">&lt;ProjectedCoordinateSystem xsi:type='typens:ProjectedCoordinateSystem' xmlns:xsi='http://www.w3.org/2001/XMLSchema-instance' xmlns:xs='http://www.w3.org/2001/XMLSchema' xmlns:typens='http://www.esri.com/schemas/ArcGIS/3.5.0'&gt;&lt;WKT&gt;PROJCS[&amp;quot;WGS_1984_Web_Mercator_Auxiliary_Sphere&amp;quot;,GEOGCS[&amp;quot;GCS_WGS_1984&amp;quot;,DATUM[&amp;quot;D_WGS_1984&amp;quot;,SPHEROID[&amp;quot;WGS_1984&amp;quot;,6378137.0,298.257223563]],PRIMEM[&amp;quot;Greenwich&amp;quot;,0.0],UNIT[&amp;quot;Degree&amp;quot;,0.0174532925199433]],PROJECTION[&amp;quot;Mercator_Auxiliary_Sphere&amp;quot;],PARAMETER[&amp;quot;False_Easting&amp;quot;,0.0],PARAMETER[&amp;quot;False_Northing&amp;quot;,0.0],PARAMETER[&amp;quot;Central_Meridian&amp;quot;,0.0],PARAMETER[&amp;quot;Standard_Parallel_1&amp;quot;,0.0],PARAMETER[&amp;quot;Auxiliary_Sphere_Type&amp;quot;,0.0],UNIT[&amp;quot;Meter&amp;quot;,1.0],AUTHORITY[&amp;quot;EPSG&amp;quot;,3857]]&lt;/WKT&gt;&lt;XOrigin&gt;-20037700&lt;/XOrigin&gt;&lt;YOrigin&gt;-30241100&lt;/YOrigin&gt;&lt;XYScale&gt;148923141.92838538&lt;/XYScale&gt;&lt;ZOrigin&gt;-100000&lt;/ZOrigin&gt;&lt;ZScale&gt;10000&lt;/ZScale&gt;&lt;MOrigin&gt;-100000&lt;/MOrigin&gt;&lt;MScale&gt;10000&lt;/MScale&gt;&lt;XYTolerance&gt;0.001&lt;/XYTolerance&gt;&lt;ZTolerance&gt;0.00020000000000000001&lt;/ZTolerance&gt;&lt;MTolerance&gt;0.00020000000000000001&lt;/MTolerance&gt;&lt;HighPrecision&gt;true&lt;/HighPrecision&gt;&lt;WKID&gt;102100&lt;/WKID&gt;&lt;LatestWKID&gt;3857&lt;/LatestWKID&gt;&lt;/ProjectedCoordinateSystem&gt;</peXml>
</coordRef>
</DataProperties>
<SyncDate>20260401</SyncDate>
<SyncTime>10483000</SyncTime>
<ModDate>20260401</ModDate>
<ModTime>10483000</ModTime>
</Esri>
<dataIdInfo>
<envirDesc Sync="FALSE">Esri ArcGIS 13.5.3.57366</envirDesc>
<dataLang>
<languageCode Sync="TRUE" value="eng">
</languageCode>
<countryCode Sync="TRUE" value="USA">
</countryCode>
</dataLang>
<idCitation>
<resTitle Sync="FALSE">Map Sheet 48 (2025 update) - MMI from PGA (10% in 50 years)</resTitle>
<presForm>
<PresFormCd Sync="TRUE" value="011">
</PresFormCd>
</presForm>
</idCitation>
<spatRpType>
<SpatRepTypCd Sync="TRUE" value="002">
</SpatRepTypCd>
</spatRpType>
<dataExt>
<geoEle>
<GeoBndBox esriExtentType="search">
<exTypeCode Sync="TRUE">1</exTypeCode>
<westBL Sync="TRUE">-124.412650</westBL>
<eastBL Sync="TRUE">-114.128735</eastBL>
<northBL Sync="TRUE">42.011075</northBL>
<southBL Sync="TRUE">32.531925</southBL>
</GeoBndBox>
</geoEle>
</dataExt>
<idAbs>&lt;div style='text-align:justify;'&gt;The California Geological Survey (CGS) Map Sheet 48 (MS48) provides a depiction of expected ground shaking intensity from future earthquakes across the state. The shaking intensity is represented using the Modified Mercalli Intensity (MMI) scale, which describes the perceived earthquake shaking and correlates strongly with earthquake-induced damage. MS48 maps the level of shaking with a 2% probability of being exceeded in 50 years, equivalent to a 2,475-year average recurrence interval.&lt;/div&gt;&lt;div style='text-align:justify;'&gt;&lt;br /&gt;&lt;/div&gt;&lt;div style='text-align:justify;'&gt;In addition to MS48, eight interactive MMI hazard maps are presented. These include MMIs calculated using alternative methods. For each method, MMIs at two different hazard levels were presented: one with a 2% probability of being exceeded in 50 years (equivalent to 2,475-year recurrence interval) and the other with 10% probability of being exceeded in 50 years (equivalent to 475-year recurrence interval). The Arc GIS interface allows users to select any two MMI hazard maps to compare side by side. MMI values were calculated using several ground motion to intensity conversion equations (GMICEs). See the “Scientific Background” on MS48 webpage for detailed information.&lt;/div&gt;&lt;div style='text-align:justify;'&gt;&lt;br /&gt;&lt;/div&gt;&lt;div style='text-align:justify;'&gt;&lt;div&gt;&lt;font color='#b22222'&gt;&lt;i&gt;Due to software limitations, symbology cannot be added to this service. To match the symbology used in the &lt;/i&gt;&lt;a href='https://maps.conservation.ca.gov/cgs/ms48/mmi/' target='_blank'&gt;&lt;i&gt;MS48 MMI application&lt;/i&gt;&lt;/a&gt;&lt;i&gt;, use the following configuration:&lt;/i&gt;&lt;/font&gt;&lt;/div&gt;&lt;div&gt;&lt;ul&gt;&lt;li&gt;&lt;font color='#b22222'&gt;&lt;i&gt;Number of Classes: 7&lt;/i&gt;&lt;/font&gt;&lt;/li&gt;&lt;li&gt;&lt;font color='#b22222'&gt;&lt;i&gt;Classes &amp;amp; Hex Codes:&lt;/i&gt;&lt;/font&gt;&lt;/li&gt;&lt;li&gt;&lt;font color='#b22222'&gt;&lt;i&gt;4 - 5: #ffffbf&lt;/i&gt;&lt;/font&gt;&lt;/li&gt;&lt;li&gt;&lt;font color='#b22222'&gt;&lt;i&gt;5 - 6: #f5f500&lt;/i&gt;&lt;/font&gt;&lt;/li&gt;&lt;li&gt;&lt;font color='#b22222'&gt;&lt;i&gt;6 - 7: #f7ce00&lt;/i&gt;&lt;/font&gt;&lt;/li&gt;&lt;li&gt;&lt;font color='#b22222'&gt;&lt;i&gt;7 - 8: #fa7d00&lt;/i&gt;&lt;/font&gt;&lt;/li&gt;&lt;li&gt;&lt;font color='#b22222'&gt;&lt;i&gt;8 - 9: #fd2a00&lt;/i&gt;&lt;/font&gt;&lt;/li&gt;&lt;li&gt;&lt;font color='#b22222'&gt;&lt;i&gt;9 - 10: #c70808&lt;/i&gt;&lt;/font&gt;&lt;/li&gt;&lt;li&gt;&lt;font color='#b22222'&gt;&lt;i&gt;10 - 11: #8c0808&lt;/i&gt;&lt;/font&gt;&lt;/li&gt;&lt;/ul&gt;&lt;/div&gt;&lt;/div&gt;</idAbs>
<searchKeys>
<keyword>MS48</keyword>
<keyword>Map Sheet 48</keyword>
<keyword>California Geological Survey</keyword>
<keyword>CGS</keyword>
<keyword>Earthquake Shaking Potential</keyword>
<keyword>California Department of Conservation</keyword>
<keyword>California Natural Resources Agency</keyword>
<keyword>CAOpenData</keyword>
</searchKeys>
<idPurp>This image service is part of a collection of 8 MMI maps that allow users to visualize and compare seismic hazards in terms of MMIs in various areas of California. They illustrate that the highest hazard areas are near major active faults. However, damaging earthquake shaking is possible anywhere in California. Factors such as proximity to faults and local geologic conditions influence shaking intensity. Comparing maps of MMIs derived using different GMICEs demonstrates large uncertainty in MMI calculations.</idPurp>
<idCredit>Rui Chen, 2025, Map Sheet 48: Earthquake Shaking Potential for California, California Geological Survey, California Department of Conservation.</idCredit>
<resConst>
<Consts>
<useLimit>&lt;div style='text-align:justify;'&gt;Access Constraints: Because digital data are easily altered, cities, counties, and others who use this are advised to obtain the file directly from the Department of Conservation, California Geological Survey.&lt;/div&gt;&lt;div style='text-align:justify;'&gt;&lt;br /&gt;&lt;/div&gt;&lt;div style='text-align:justify;'&gt; LICENSE AGREEMENT: (c) 2025 California Department of Conservation, California Geological Survey. All rights reserved. No part of these data may be reproduced, transmitted, or distributed in any form or by any means, electronic or mechanical for any purpose, without the express written permission of the California Geological Survey. &lt;/div&gt;&lt;div style='text-align:justify;'&gt;&lt;br /&gt;&lt;/div&gt;&lt;div style='text-align:justify;'&gt;Distribution Liability: These data are provided by the California Department of Conservation, California Geological Survey, as is. Any express or implied warranties, including, but not limited to, the implied warranties of merchantability and fitness for a particular purpose are disclaimed. In no event shall the California Department of Conservation, California Geological Survey, or its associated contributors be liable for any direct, indirect, incidental, special, exemplary, or consequential damages (including, but not limited to, procurement of substitute goods or services; loss of use, data, or profits; or business interruption) however caused and on any theory of liability, whether in contract, strict liability, or tort (including negligence or otherwise) that arise in any way out of the use of these data and software, even if advised of the possibility of such damage.&lt;/div&gt;&lt;div style='text-align:justify;'&gt;&lt;br /&gt;&lt;/div&gt;&lt;div style='text-align:justify;'&gt;The California Department of Conservation, California Geological Survey, makes no warranty, express or implied, regarding the data or its use. It is recommended that careful attention be paid to the contents of any metadata associated with a specific file, and that the originator of the data be contacted with any questions regarding appropriate use. The California Department of Conservation, California Geological Survey, shall not be held liable for improper or incorrect use of the data described and/or contained herein.&lt;/div&gt;</useLimit>
</Consts>
</resConst>
</dataIdInfo>
<mdLang>
<languageCode Sync="TRUE" value="eng">
</languageCode>
<countryCode Sync="TRUE" value="USA">
</countryCode>
</mdLang>
<distInfo>
<distFormat>
<formatName Sync="TRUE">Enterprise Geodatabase Raster Dataset</formatName>
</distFormat>
</distInfo>
<mdHrLv>
<ScopeCd Sync="TRUE" value="005">
</ScopeCd>
</mdHrLv>
<mdHrLvName Sync="TRUE">dataset</mdHrLvName>
<refSysInfo>
<RefSystem>
<refSysID>
<identCode Sync="TRUE" code="3857">
</identCode>
<idCodeSpace Sync="TRUE">EPSG</idCodeSpace>
<idVersion Sync="TRUE">6.18.3(9.3.1.2)</idVersion>
</refSysID>
</RefSystem>
</refSysInfo>
<spdoinfo>
<rastinfo>
<rasttype Sync="TRUE">Pixel</rasttype>
<rowcount Sync="TRUE">13293</rowcount>
<colcount Sync="TRUE">11448</colcount>
<rastxsz Sync="TRUE">100.000020</rastxsz>
<rastysz Sync="TRUE">100.000015</rastysz>
<rastbpp Sync="TRUE">32</rastbpp>
<vrtcount Sync="TRUE">1</vrtcount>
<rastorig Sync="TRUE">Upper Left</rastorig>
<rastcmap Sync="TRUE">FALSE</rastcmap>
<rastcomp Sync="TRUE">LZ77</rastcomp>
<rastband Sync="TRUE">1</rastband>
<rastdtyp Sync="TRUE">pixel codes</rastdtyp>
<rastifor Sync="TRUE">SDR</rastifor>
<rastplyr Sync="TRUE">TRUE</rastplyr>
</rastinfo>
</spdoinfo>
<spref>
<horizsys>
<planar>
<planci>
<plance Sync="TRUE">row and column</plance>
<coordrep>
<absres Sync="TRUE">100.000020</absres>
<ordres Sync="TRUE">100.000015</ordres>
</coordrep>
</planci>
</planar>
</horizsys>
</spref>
<mdDateSt Sync="TRUE">20260401</mdDateSt>
</metadata>
