The California Geological Survey (CGS) Map Sheet 48 (MS48) provides a depiction of expected ground shaking intensity from future earthquakes across the state. The shaking intensity is represented using the Modified Mercalli Intensity (MMI) scale, which describes the perceived earthquake shaking and correlates strongly with earthquake-induced damage. MS48 maps the level of shaking with a 2% probability of being exceeded in 50 years, equivalent to a 2,475-year average recurrence interval.<\/div>
<\/div>
In addition to MS48, eight interactive MMI hazard maps are presented. These include MMIs calculated using alternative methods. For each method, MMIs at two different hazard levels were presented: one with a 2% probability of being exceeded in 50 years (equivalent to 2,475-year recurrence interval) and the other with 10% probability of being exceeded in 50 years (equivalent to 475-year recurrence interval). The Arc GIS interface allows users to select any two MMI hazard maps to compare side by side. \nMMI values were calculated using several ground motion to intensity conversion equations (GMICEs). See the \u201cScientific Background\u201d on MS48 webpage for detailed information.<\/div>
<\/div>
Due to software limitations, symbology cannot be added to this service. To match the symbology used in the <\/i>MS48 MMI application<\/i><\/a>, use the following configuration:<\/i><\/font><\/div>- Number of Classes: 7<\/i><\/font><\/li>
- Classes & Hex Codes:<\/i><\/font><\/li>
- 4 - 5: #ffffbf<\/i><\/font><\/li>
- 5 - 6: #f5f500<\/i><\/font><\/li>
- 6 - 7: #f7ce00<\/i><\/font><\/li>
- 7 - 8: #fa7d00<\/i><\/font><\/li>
- 8 - 9: #fd2a00<\/i><\/font><\/li>
- 9 - 10: #c70808<\/i><\/font><\/li>
- 10 - 11: #8c0808<\/i><\/font><\/li><\/ul><\/div><\/div>",
"serviceItemId": "8f4e6113377448a18a0a0dbe6d53f094",
"name": "CGS/MS48_MMI_PGA_Ep_2pc50",
"description": "",
"extent": {
"xmin": -1.3849552891615976E7,
"ymin": 3833338.434028222,
"xmax": -1.2704752658602662E7,
"ymax": 5162638.637629544,
"spatialReference": {
"wkid": 102100,
"latestWkid": 3857
}
},
"initialExtent": {
"xmin": -1.3849552891615976E7,
"ymin": 3833338.434028222,
"xmax": -1.2704752658602662E7,
"ymax": 5162638.637629544,
"spatialReference": {
"wkid": 102100,
"latestWkid": 3857
}
},
"fullExtent": {
"xmin": -1.3849552891615976E7,
"ymin": 3833338.434028222,
"xmax": -1.2704752658602662E7,
"ymax": 5162638.637629544,
"spatialReference": {
"wkid": 102100,
"latestWkid": 3857
}
},
"sortableFields": "",
"bandCount": 1,
"pixelType": "F32",
"minValues": [
4.640812873840332
],
"maxValues": [
9.007485389709473
],
"meanValues": [
7.338637639106845
],
"stdvValues": [
0.7169071657695704
],
"serviceProperties": "Center<\/MosaicMethod>First<\/MosaicOperator>true<\/SortAscending><\/LockImageID><\/TileOrderField>0<\/TileOrderBase>0.000000<\/AvgImageSpacingX>0.000000<\/AvgImageSpacingY>0.0<\/ViewPointX>0.0<\/ViewPointY>0.0<\/ViewPointDefShiftX>0.0<\/ViewPointDefShiftY>None<\/CompressionMethod>75<\/CompressionQuality>0.010000<\/CompressionTolerance>Bilinear<\/SamplingMethod><\/ImageServiceProperties><\/ImageServer>",
"allowedFields": "",
"hasMultidimensions": false,
"pixelSizeX": 100.000020354063,
"pixelSizeY": 100.00001531643136,
"meanPixelSize": 100.00001783524718,
"datasetFormat": "SDR",
"uncompressedSize": 608713056,
"blockWidth": 128,
"blockHeight": 128,
"compressionType": "LZ77",
"bandNames": [
"Band_1"
],
"allowCopy": true,
"allowAnalysis": true,
"itemAccess": false,
"inspectionCapabilities": "",
"minPixelSize": 0,
"maxPixelSize": 0,
"copyrightText": "Rui Chen, 2025, Map Sheet 48: Earthquake Shaking Potential for California, California Geological Survey, California Department of Conservation.",
"serviceDataType": "esriImageServiceDataTypeGeneric",
"serviceSourceType": "esriImageServiceSourceTypeDataset",
"objectIdField": "",
"fields": [],
"capabilities": "Image,Metadata,Mensuration",
"defaultMosaicMethod": "Center",
"allowedMosaicMethods": "",
"sortField": "",
"sortValue": null,
"sortAscending": true,
"mosaicOperator": "First",
"defaultCompressionQuality": 75,
"defaultResamplingMethod": "Bilinear",
"maxImageHeight": 4100,
"maxImageWidth": 15000,
"allowRasterFunction": true,
"rasterFunctionInfos": [
{
"name": "None",
"description": "",
"help": ""
}
],
"rasterTypeInfos": [
{
"name": "Raster Dataset",
"description": "Supports all ArcGIS Raster Datasets",
"help": ""
}
],
"mensurationCapabilities": "Basic",
"hasHistograms": true,
"hasColormap": false,
"hasRasterAttributeTable": false,
"minScale": 0,
"maxScale": 0,
"exportTilesAllowed": false,
"supportsStatistics": false,
"supportsAdvancedQueries": false,
"editFieldsInfo": null,
"ownershipBasedAccessControlForRasters": null,
"allowComputeTiePoints": false,
"useStandardizedQueries": true,
"advancedQueryCapabilities": {
"useStandardizedQueries": true,
"supportsStatistics": false,
"supportsOrderBy": false,
"supportsDistinct": false,
"supportsPagination": false
},
"spatialReference": {
"wkid": 102100,
"latestWkid": 3857
}
}