View In:
ArcGIS JavaScript
ArcGIS Online Map Viewer
ArcGIS Earth
ArcMap
ArcGIS Pro
View Footprint In:
ArcGIS Online Map Viewer
Service Description: This dataset represents simplified geologic units that have been correlated to the time-averaged seismic shear-wave velocity in the upper 30 meters of the earth s surface (Vs30). The geologic units were compiled from published maps that range in scale from 1:250,000 to 1:24,000, along with a system for subdividing younger alluvium based on surface slope. More information can be obtained from the associated article published in the Bulletin of the Seismological Society of America:
Wills, C.J., Gutierrez, C.I., Perez, F.G., and Branum, D.B., 2015, A next-generation Vs30 map for California based on geology and topography: Bulletin of the Seismological Society of America.
Map Name: Layers
Legend
All Layers and Tables
Layers:
Description:
Service Item Id: a092865bb0b646d084ce9b0abbbe0931
Copyright Text: C.J. Wills, C.I. Gutierrez, F.G. Perez, and D.B. Branum, California Geological Survey, California Department of Conservation.
Spatial Reference:
102100
(3857)
Single Fused Map Cache: true
Tile Info:
- Height: 256
- Width: 256
- DPI: 96
-
Levels of Detail: 24
-
Level ID: 0
[ Start Tile, End Tile ]
- Resolution: 156543.03392800014
- Scale: 5.91657527591555E8
-
Level ID: 1
[ Start Tile, End Tile ]
- Resolution: 78271.51696399994
- Scale: 2.95828763795777E8
-
Level ID: 2
[ Start Tile, End Tile ]
- Resolution: 39135.75848200009
- Scale: 1.47914381897889E8
-
Level ID: 3
[ Start Tile, End Tile ]
- Resolution: 19567.87924099992
- Scale: 7.3957190948944E7
-
Level ID: 4
[ Start Tile, End Tile ]
- Resolution: 9783.93962049996
- Scale: 3.6978595474472E7
-
Level ID: 5
[ Start Tile, End Tile ]
- Resolution: 4891.96981024998
- Scale: 1.8489297737236E7
- Format: PNG
- Compression Quality: 0.0
- Origin: X: -2.0037508342787E7
Y: 2.0037508342787E7
- Spatial Reference: 102100
(3857)
Initial Extent:
XMin: -1.3910348845881425E7
YMin: 4285181.214495158
XMax: -1.2990258464033995E7
YMax: 4821624.995716054
Spatial Reference: 102100
(3857)
Full Extent:
XMin: -1.3848886901E7
YMin: 3833650.799800001
XMax: -1.2704977522E7
YMax: 5162361.0304000005
Spatial Reference: 102100
(3857)
Units: esriMeters
Supported Image Format Types: PNG32,PNG24,PNG,JPG,DIB,TIFF,EMF,PS,PDF,GIF,SVG,SVGZ,BMP
Document Info:
Title: Shear-wave Velocity in Upper 30m of Surficial Geology (Vs30)
Author: C.J. Wills, C.I. Gutierrez, F.G. Perez, and D.B. Branum, California Geological Survey, California Department of Conservation.
Comments: This dataset represents simplified geologic units that have been correlated to the time-averaged seismic shear-wave velocity in the upper 30 meters of the earth s surface (Vs30). The geologic units were compiled from published maps that range in scale from 1:250,000 to 1:24,000, along with a system for subdividing younger alluvium based on surface slope. More information can be obtained from the associated article published in the Bulletin of the Seismological Society of America:
Wills, C.J., Gutierrez, C.I., Perez, F.G., and Branum, D.B., 2015, A next-generation Vs30 map for California based on geology and topography: Bulletin of the Seismological Society of America.
Subject: Simplified geologic units that have been correlated to the time-averaged seismic shear-wave velocity in the upper 30 meters of the earths surface (Vs30).
Category:
Keywords: Shear-wave,Earthquake,California,Geology
AntialiasingMode: None
TextAntialiasingMode: Force
Supports Dynamic Layers: false
MaxRecordCount: 1000
MaxImageHeight: 4096
MaxImageWidth: 4096
Supported Query Formats: JSON, geoJSON
Supports Query Data Elements:
Min Scale: 5.91657527591555E8
Max Scale: 18055.954822
Min LOD: 0
Max LOD: 15
Supports Datum Transformation: true
Child Resources:
Info
Supported Operations:
Export Map
Identify
QueryDomains
QueryLegends
Find
Return Updates