View In:
ArcGIS JavaScript
ArcGIS Online Map Viewer
ArcGIS Earth
Service Description: This map shows distribution of the time-averaged shear-wave velocity in the upper 30 m (Vs30) for California. Vs30 is used as a proxy for local geologic site condition in ground motion hazard calculations. The map is produced using data provided by Thompson (ver. 2.0, July 2022), which is based on the method described by Thompson and others (2014) with adjustments (see Thompson, 2022 for detail). Vs30 unit is m/s. Data resolution is 3 arcseconds (approximately 90 m).
Due to software limitations, symbology cannot be added to this service. To match the symbology used in the MS48 Additional Maps application, use the following configuration: - Esri Color Ramp: Yellow to Dark Red
- Number of Classes: 5
- Classes & Hex Codes:
- 176.1 - 300: #F4FE93
- 300 - 450: #F6DC6A
- 450 - 600: #F2B841
- 600 - 725: #BA671A
- 725 - 1,473.3: #810A01
Name: CGS/MS48_Vs30_ShearWaveVelocity2022
Description:
Single Fused Map Cache: false
Extent:
XMin: -124.41145833367815
YMin: 32.53229166831888
XMax: -114.13020833501997
YMax: 42.00937500044766
Spatial Reference: 4326
(4326)
LatestVCSWkid(0)
Initial Extent:
XMin: -124.41145833367815
YMin: 32.53229166831888
XMax: -114.13020833501997
YMax: 42.00937500044766
Spatial Reference: 4326
(4326)
LatestVCSWkid(0)
Full Extent:
XMin: -124.41145833367815
YMin: 32.53229166831888
XMax: -114.13020833501997
YMax: 42.00937500044766
Spatial Reference: 4326
(4326)
LatestVCSWkid(0)
Pixel Size X: 0.0020833333330614353
Pixel Size Y: 0.0020833333330685395
Band Count: 1
Pixel Type: F32
RasterFunction Infos: {"rasterFunctionInfos": [{
"name": "None",
"description": "",
"help": ""
}]}
Mensuration Capabilities: Basic
Inspection Capabilities:
Has Histograms: true
Has Colormap: false
Has Multi Dimensions : false
Rendering Rule:
Min Scale: 0
Max Scale: 0
Copyright Text: Thompson, E.M., 2018, An Updated Vs30 Map for California with Geologic and Topographic Constraints (ver. 2.0, July 2022): U.S. Geological Survey data release, https://doi.org/10.5066/F7JQ108S.
Service Data Type: esriImageServiceDataTypeGeneric
Min Values: 176.10000610351562
Max Values: 1636.0032958984375
Mean Values: 527.1172784148441
Standard Deviation Values: 175.07044871409633
Object ID Field:
Fields:
None
Default Mosaic Method: Center
Allowed Mosaic Methods:
SortField:
SortValue: null
Mosaic Operator: First
Default Compression Quality: 75
Default Resampling Method: Bilinear
Max Record Count: null
Max Image Height: 4100
Max Image Width: 15000
Max Download Image Count: null
Max Mosaic Image Count: null
Allow Raster Function: true
Allow Copy: true
Allow Analysis: true
Allow Compute TiePoints: false
Supports Statistics: false
Supports Advanced Queries: false
Use StandardizedQueries: true
Raster Type Infos:
Name: Raster Dataset
Description: Supports all ArcGIS Raster Datasets
Help:
Has Raster Attribute Table: false
Edit Fields Info: null
Ownership Based AccessControl For Rasters: null
Child Resources:
Info
Histograms
Statistics
Key Properties
Legend
Raster Function Infos
Supported Operations:
Export Image
Identify
Measure
Compute Histograms
Compute Statistics Histograms
Get Samples
Compute Class Statistics
Query Boundary
Compute Pixel Location
Compute Angles
Validate
Project