View In:
ArcGIS JavaScript
ArcGIS Online Map Viewer
ArcGIS Earth
ArcGIS Pro
Service Description: This dataset provides a view of the first mapped farmland class for each area mapped by the Farmland Mapping and Monitoring Program for each county in California.
http://maps.conservation.ca.gov/dlrp/metadata/ImportantFarmland/index.htm
Map Name: First Mapped
Legend
All Layers and Tables
Layers:
Description: This dataset provides a view of the first mapped farmland class for each area mapped by the Farmland Mapping and Monitoring Program for each county in California.
http://maps.conservation.ca.gov/dlrp/metadata/ImportantFarmland/index.htm
Service Item Id: 54c279655fdf48bc9231f250f960d7bd
Copyright Text: Farmland Mapping and Monitoring Program, Division of Land Resource Protection, California Department of Conservation
Spatial Reference:
102100
(3857)
LatestVCSWkid(0)
Single Fused Map Cache: true
Tile Info:
- Height: 256.0
- Width: 256.0
- DPI: 96.0
-
Levels of Detail: 24
-
Level ID: 1
[ Start Tile, End Tile ]
- Resolution: 78271.5169639999
- Scale: 2.95828763795777E8
-
Level ID: 2
[ Start Tile, End Tile ]
- Resolution: 39135.7584820001
- Scale: 1.47914381897889E8
-
Level ID: 3
[ Start Tile, End Tile ]
- Resolution: 19567.8792409999
- Scale: 7.3957190948944E7
-
Level ID: 4
[ Start Tile, End Tile ]
- Resolution: 9783.93962049996
- Scale: 3.6978595474472E7
-
Level ID: 5
[ Start Tile, End Tile ]
- Resolution: 4891.96981024998
- Scale: 1.8489297737236E7
- Format: PNG
- Compression Quality: 0.0
- Origin: X: -2.0037508342787E7
Y: 2.0037508342787E7
- Spatial Reference: 102100
(3857)
LatestVCSWkid(0)
Storage Info:
- Storage Format: esriMapCacheStorageModeCompactV2
- Packet Size: 128
Initial Extent:
XMin: -1.4214049489712799E7
YMin: 3767194.661220003
XMax: -1.2297049985287203E7
YMax: 5228862.49038
Spatial Reference: 102100
(3857)
LatestVCSWkid(0)
Full Extent:
XMin: -1.38062058321E7
YMin: 3833634.108000003
XMax: -1.27048595772E7
YMax: 5162423.0436
Spatial Reference: 102100
(3857)
LatestVCSWkid(0)
Units: esriMeters
Supported Image Format Types: PNG32,PNG24,PNG,JPG,DIB,TIFF,EMF,PS,PDF,GIF,SVG,SVGZ,BMP
Document Info:
Title: California Important Farmland: First Mapped
Author:
Comments: This dataset provides a view of the first mapped farmland class for each area mapped by the Farmland Mapping and Monitoring Program for each county in California.
http://maps.conservation.ca.gov/dlrp/metadata/ImportantFarmland/index.htm
Subject: California Important Farmland: First Mapped
Category:
Keywords: California Important Farmland,Farmland,California Department of Conservation,Division of Land Resource Protection,Farmland Mapping and Monitoring Program,FMMP
AntialiasingMode: Fast
TextAntialiasingMode: Force
Supports Dynamic Layers: false
MaxRecordCount: 1000
MaxSelectionCount: 2000
MaxImageHeight: 4096
MaxImageWidth: 4096
Supported Query Formats: JSON, geoJSON, PBF
Supports Query Data Elements: true
Min Scale: 5.91657527591555E8
Max Scale: 9027.977411
Supports Datum Transformation: true
Child Resources:
Info
Supported Operations:
Export Map
Identify
QueryLegends
QueryDomains
Find
Return Updates